BEGIN:VCALENDAR
VERSION:2.0
PRODID:-//REACT4MED - ECPv6.15.18//NONSGML v1.0//EN
CALSCALE:GREGORIAN
METHOD:PUBLISH
X-ORIGINAL-URL:https://react4med.eu/he/
X-WR-CALDESC:Events for REACT4MED
REFRESH-INTERVAL;VALUE=DURATION:PT1H
X-Robots-Tag:noindex
X-PUBLISHED-TTL:PT1H
BEGIN:VTIMEZONE
TZID:UTC
BEGIN:STANDARD
TZOFFSETFROM:+0000
TZOFFSETTO:+0000
TZNAME:UTC
DTSTART:20210101T000000
END:STANDARD
END:VTIMEZONE
BEGIN:VTIMEZONE
TZID:Europe/Moscow
BEGIN:STANDARD
TZOFFSETFROM:+0300
TZOFFSETTO:+0300
TZNAME:MSK
DTSTART:20210101T000000
END:STANDARD
END:VTIMEZONE
BEGIN:VEVENT
DTSTART;VALUE=DATE:20221205
DTEND;VALUE=DATE:20221206
DTSTAMP:20260422T090858
CREATED:20220803T133359Z
LAST-MODIFIED:20220803T133359Z
UID:2354-1670198400-1670284799@react4med.eu
SUMMARY:יום האדמה העולמי
DESCRIPTION:
URL:https://react4med.eu/he/event/%d7%99%d7%95%d7%9d-%d7%94%d7%90%d7%93%d7%9e%d7%94-%d7%94%d7%a2%d7%95%d7%9c%d7%9e%d7%99/
END:VEVENT
BEGIN:VEVENT
DTSTART;TZID=Europe/Moscow:20221201T083000
DTEND;TZID=Europe/Moscow:20221201T153000
DTSTAMP:20260422T090858
CREATED:20221101T120029Z
LAST-MODIFIED:20221107T114511Z
UID:2371-1669883400-1669908600@react4med.eu
SUMMARY:סדנת פתיחה ל'מעבדה חיה' לשיקום מערכות אקולוגיות \, מרכז מחקר נווה יער ובבית לחם הגלילית.
DESCRIPTION:סדנת ‘מעבדה חיה’ היא חלק מפרויקט REACT4MED העוסק בעצירת הפגיעה באיכות הקרקע באמצעות הערכה והפצה של ידע ושיטות בנות קיימא לטיפול בקרקע. בסדנה זו תבוצע סקירה של הפרויקט כולו\, ותוגדר מסגרת המעורבות של השחקנים המקומיים בהקשר המחקרי\, הלאומי והבינלאומי\, לשלוש השנים הקרובות. \nיחד איתך\, נגדיר את הצעדים הראשונים למעורבות זו. במפגש הראשון נעלה מספר נושאים לדיון ונסייר בשני אתרים המיישמים שיטות ניהול קרקע מתקדמות. \nניסיונך בתחום ניהול קרקע הוא בעל חשיבות ועניין רב עבורנו ויסייע לנו בהפיכת תוצאות הפרויקט לרלוונטיות עבור הקהילה החקלאית\, קובעי מדיניות\, אנשי מינהל\, וקהילת המחקר. \n\nניתן להוריד את ההזמנה באנגלית כאן \nהזמנה בעברית ניתנת להורדה מכאן
URL:https://react4med.eu/he/event/%d7%a1%d7%93%d7%a0%d7%aa-%d7%a4%d7%aa%d7%99%d7%97%d7%94-%d7%9c%d7%9e%d7%a2%d7%91%d7%93%d7%94-%d7%97%d7%99%d7%94-%d7%9c%d7%a9%d7%99%d7%a7%d7%95%d7%9d-%d7%9e%d7%a2%d7%a8%d7%9b%d7%95%d7%aa-%d7%90/
LOCATION:Newe Ya’ar Research Center
ORGANIZER;CN="Dr. Anna Brook":MAILTO:abrook@geo.haifa.ac.il
END:VEVENT
BEGIN:VEVENT
DTSTART;VALUE=DATE:20221109
DTEND;VALUE=DATE:20221111
DTSTAMP:20260422T090858
CREATED:20220805T070927Z
LAST-MODIFIED:20220805T070927Z
UID:2353-1667952000-1668124799@react4med.eu
SUMMARY:פורום חדשנות בת קיימא
DESCRIPTION:
URL:https://react4med.eu/he/event/%d7%a4%d7%95%d7%a8%d7%95%d7%9d-%d7%97%d7%93%d7%a9%d7%a0%d7%95%d7%aa-%d7%91%d7%aa-%d7%a7%d7%99%d7%99%d7%9e%d7%90/
CATEGORIES:ועידות
ATTACH;FMTTYPE=image/png:https://react4med.eu/wp-content/uploads/2022/08/SIF_22_LOGO.png
END:VEVENT
BEGIN:VEVENT
DTSTART;VALUE=DATE:20221106
DTEND;VALUE=DATE:20221119
DTSTAMP:20260422T090858
CREATED:20221015T061534Z
LAST-MODIFIED:20221015T061534Z
UID:2351-1667692800-1668815999@react4med.eu
SUMMARY:ועידת האו"ם לשינוי אקלים
DESCRIPTION:
URL:https://react4med.eu/he/event/%d7%95%d7%a2%d7%99%d7%93%d7%aa-%d7%94%d7%90%d7%95%d7%9d-%d7%9c%d7%a9%d7%99%d7%a0%d7%95%d7%99-%d7%90%d7%a7%d7%9c%d7%99%d7%9d/
END:VEVENT
BEGIN:VEVENT
DTSTART;VALUE=DATE:20221013
DTEND;VALUE=DATE:20221014
DTSTAMP:20260422T090858
CREATED:20220803T133202Z
LAST-MODIFIED:20220803T133202Z
UID:2352-1665619200-1665705599@react4med.eu
SUMMARY:היום הבינלאומי להפחתת סיכון אסונות
DESCRIPTION:
URL:https://react4med.eu/he/event/%d7%94%d7%99%d7%95%d7%9d-%d7%94%d7%91%d7%99%d7%a0%d7%9c%d7%90%d7%95%d7%9e%d7%99-%d7%9c%d7%94%d7%a4%d7%97%d7%aa%d7%aa-%d7%a1%d7%99%d7%9b%d7%95%d7%9f-%d7%90%d7%a1%d7%95%d7%a0%d7%95%d7%aa/
END:VEVENT
END:VCALENDAR